BEGIN:VCALENDAR
VERSION:2.0
PRODID:-//hacksw/handcal//NONSGML v1.0//EN
CALSCALE:GREGORIAN
BEGIN:VEVENT
LOCATION:Place Michel GOY\, 83820 Rayol-Canadel-sur-Mer
DESCRIPTION:https://www.golfe-saint-tropez-information.com/fr/animation/manifestations-commerciales/rayol-canadel-sur-mer/marche-provencal-hebdomadaire-929858
DTSTART:20260410T000000Z
DTEND:20260925T000000Z
SUMMARY:Marché provençal hebdomadaire
URL;VALUE=URI:https://www.golfe-saint-tropez-information.com/fr/animation/manifestations-commerciales/rayol-canadel-sur-mer/marche-provencal-hebdomadaire-929858
DTSTAMP:20260420T054127Z
UID:69e5bc8745242
END:VEVENT
END:VCALENDAR