BEGIN:VCALENDAR
VERSION:2.0
PRODID:-//hacksw/handcal//NONSGML v1.0//EN
CALSCALE:GREGORIAN
BEGIN:VEVENT
LOCATION:Place Vieille\, 83310 Grimaud
DESCRIPTION:https://www.golfe-saint-tropez-information.com/fr/animation/distractions-et-loisirs/grimaud/fete-de-la-lumiere-a-grimaud-916260
DTSTART:20261204T000000Z
DTEND:20261204T000000Z
SUMMARY:Fête de la Lumière à Grimaud
URL;VALUE=URI:https://www.golfe-saint-tropez-information.com/fr/animation/distractions-et-loisirs/grimaud/fete-de-la-lumiere-a-grimaud-916260
DTSTAMP:20260425T220124Z
UID:69ed39b4b8554
END:VEVENT
END:VCALENDAR