BEGIN:VCALENDAR
VERSION:2.0
PRODID:-//hacksw/handcal//NONSGML v1.0//EN
CALSCALE:GREGORIAN
BEGIN:VEVENT
LOCATION:Place Vieille\, 83310 Grimaud
DESCRIPTION:https://www.golfe-saint-tropez-information.com/en/animation/entertainment-recreation/grimaud/light-festival-in-grimaud-916260
DTSTART:20261204T000000Z
DTEND:20261204T000000Z
SUMMARY:Light Festival in Grimaud
URL;VALUE=URI:https://www.golfe-saint-tropez-information.com/en/animation/entertainment-recreation/grimaud/light-festival-in-grimaud-916260
DTSTAMP:20260425T233055Z
UID:69ed4eafeee52
END:VEVENT
END:VCALENDAR