BEGIN:VCALENDAR
VERSION:2.0
PRODID:-//hacksw/handcal//NONSGML v1.0//EN
CALSCALE:GREGORIAN
BEGIN:VEVENT
LOCATION:50 Rond-Point Saint Exupéry\, Maison de la Mer\, 83240 Cavalaire-sur-Mer
DESCRIPTION:https://www.golfe-saint-tropez-information.com/en/animation/sports-and-leisure/cavalaire-sur-mer/la-cavalairoise-898090
DTSTART:20260524T000000Z
DTEND:20260524T000000Z
SUMMARY:La Cavalairoise
URL;VALUE=URI:https://www.golfe-saint-tropez-information.com/en/animation/sports-and-leisure/cavalaire-sur-mer/la-cavalairoise-898090
DTSTAMP:20260422T190239Z
UID:69e91b4f93c9e
END:VEVENT
END:VCALENDAR