BEGIN:VCALENDAR
VERSION:2.0
PRODID:-//hacksw/handcal//NONSGML v1.0//EN
CALSCALE:GREGORIAN
BEGIN:VEVENT
LOCATION:Place Jean Moulin\, 83240 Cavalaire-sur-Mer
DESCRIPTION:https://www.golfe-saint-tropez-information.com/fr/animation/distractions-et-loisirs/cavalaire-sur-mer/marche-provencal-897978
DTSTART:20260401T000000Z
DTEND:20261230T000000Z
SUMMARY:Marché provençal
URL;VALUE=URI:https://www.golfe-saint-tropez-information.com/fr/animation/distractions-et-loisirs/cavalaire-sur-mer/marche-provencal-897978
DTSTAMP:20260420T053429Z
UID:69e5bae56b01b
END:VEVENT
END:VCALENDAR