BEGIN:VCALENDAR
VERSION:2.0
PRODID:-//hacksw/handcal//NONSGML v1.0//EN
CALSCALE:GREGORIAN
BEGIN:VEVENT
LOCATION:50 Rond-Point Saint Exupéry\, Maison de la Mer\, 83240 Cavalaire-sur-Mer
DESCRIPTION:https://www.golfe-saint-tropez-information.com/en/animation/entertainment-recreation/cavalaire-sur-mer/bulle-bien-etre-897883
DTSTART:20260501T000000Z
DTEND:20260502T000000Z
SUMMARY:Bulle Bien Être
URL;VALUE=URI:https://www.golfe-saint-tropez-information.com/en/animation/entertainment-recreation/cavalaire-sur-mer/bulle-bien-etre-897883
DTSTAMP:20260425T203723Z
UID:69ed260389fcd
END:VEVENT
END:VCALENDAR