BEGIN:VCALENDAR
VERSION:2.0
PRODID:-//hacksw/handcal//NONSGML v1.0//EN
CALSCALE:GREGORIAN
BEGIN:VEVENT
LOCATION:Place du marché\, 83310 Grimaud
DESCRIPTION:https://www.golfe-saint-tropez-information.com/fr/animation/manifestations-commerciales/grimaud/marche-a-port-grimaud-893829
DTSTART:20260402T000000Z
DTEND:20270429T000000Z
SUMMARY:Marché à Port Grimaud
URL;VALUE=URI:https://www.golfe-saint-tropez-information.com/fr/animation/manifestations-commerciales/grimaud/marche-a-port-grimaud-893829
DTSTAMP:20260420T072945Z
UID:69e5d5e971567
END:VEVENT
END:VCALENDAR