BEGIN:VCALENDAR
VERSION:2.0
PRODID:-//hacksw/handcal//NONSGML v1.0//EN
CALSCALE:GREGORIAN
BEGIN:VEVENT
LOCATION:Place du marché\, 83310 Grimaud
DESCRIPTION:https://www.golfe-saint-tropez-information.com/en/animation/commercial-event/grimaud/marketday-in-port-grimaud-893829
DTSTART:20260402T000000Z
DTEND:20270429T000000Z
SUMMARY:Marketday in Port Grimaud
URL;VALUE=URI:https://www.golfe-saint-tropez-information.com/en/animation/commercial-event/grimaud/marketday-in-port-grimaud-893829
DTSTAMP:20260420T054827Z
UID:69e5be2b27e21
END:VEVENT
END:VCALENDAR