BEGIN:VCALENDAR
VERSION:2.0
PRODID:-//hacksw/handcal//NONSGML v1.0//EN
CALSCALE:GREGORIAN
BEGIN:VEVENT
LOCATION:Place de l'église\, 83310 Grimaud
DESCRIPTION:https://www.golfe-saint-tropez-information.com/en/animation/commercial-event/grimaud/day-market-in-grimaud-village-893788
DTSTART:20260402T000000Z
DTEND:20270429T000000Z
SUMMARY:Day market in Grimaud village
URL;VALUE=URI:https://www.golfe-saint-tropez-information.com/en/animation/commercial-event/grimaud/day-market-in-grimaud-village-893788
DTSTAMP:20260420T035929Z
UID:69e5a4a1f1ecf
END:VEVENT
END:VCALENDAR