BEGIN:VCALENDAR
VERSION:2.0
PRODID:-//hacksw/handcal//NONSGML v1.0//EN
CALSCALE:GREGORIAN
BEGIN:VEVENT
LOCATION:Office de Tourisme\, 83310 Grimaud
DESCRIPTION:https://www.golfe-saint-tropez-information.com/fr/animation/sports/grimaud/course-d-orientation-dans-le-village-de-grimaud-893706
DTSTART:20260401T000000Z
DTEND:20270430T000000Z
SUMMARY:Course d'orientation dans le village de Grimaud
URL;VALUE=URI:https://www.golfe-saint-tropez-information.com/fr/animation/sports/grimaud/course-d-orientation-dans-le-village-de-grimaud-893706
DTSTAMP:20260425T160609Z
UID:69ece671a666b
END:VEVENT
END:VCALENDAR