BEGIN:VCALENDAR
VERSION:2.0
PRODID:-//hacksw/handcal//NONSGML v1.0//EN
CALSCALE:GREGORIAN
BEGIN:VEVENT
LOCATION:Office de Tourisme\, 83310 Grimaud
DESCRIPTION:https://www.golfe-saint-tropez-information.com/en/animation/sports-and-leisure/grimaud/orienteering-in-the-village-of-grimaud-893706
DTSTART:20260401T000000Z
DTEND:20270430T000000Z
SUMMARY:Orienteering in the village of Grimaud
URL;VALUE=URI:https://www.golfe-saint-tropez-information.com/en/animation/sports-and-leisure/grimaud/orienteering-in-the-village-of-grimaud-893706
DTSTAMP:20260425T173611Z
UID:69ecfb8bf31c3
END:VEVENT
END:VCALENDAR