BEGIN:VCALENDAR
VERSION:2.0
PRODID:-//hacksw/handcal//NONSGML v1.0//EN
CALSCALE:GREGORIAN
BEGIN:VEVENT
LOCATION:avenue Jacques Chirac\, (anciennement avenue des Belges)\, 83820 Rayol-Canadel-sur-Mer
DESCRIPTION:https://www.golfe-saint-tropez-information.com/fr/animation/nature-et-detente/rayol-canadel-sur-mer/visite-thematique-balade-nocturne-795771
DTSTART:20260601T000000Z
DTEND:20260830T000000Z
SUMMARY:Visite thématique "Balade nocturne"
URL;VALUE=URI:https://www.golfe-saint-tropez-information.com/fr/animation/nature-et-detente/rayol-canadel-sur-mer/visite-thematique-balade-nocturne-795771
DTSTAMP:20260419T235655Z
UID:69e56bc732dbf
END:VEVENT
END:VCALENDAR