BEGIN:VCALENDAR
VERSION:2.0
PRODID:-//hacksw/handcal//NONSGML v1.0//EN
CALSCALE:GREGORIAN
BEGIN:VEVENT
LOCATION:83420 La Croix-Valmer
DESCRIPTION:https://www.golfe-saint-tropez-information.com/fr/animation/sports/la-croix-valmer/sortie-paddle-evasion-en-mediterranee-7799937
DTSTART:20260430T000000Z
DTEND:20260527T000000Z
SUMMARY:Sortie Paddle : Evasion en Méditerranée
URL;VALUE=URI:https://www.golfe-saint-tropez-information.com/fr/animation/sports/la-croix-valmer/sortie-paddle-evasion-en-mediterranee-7799937
DTSTAMP:20260425T155857Z
UID:69ece4c18b34a
END:VEVENT
END:VCALENDAR