BEGIN:VCALENDAR
VERSION:2.0
PRODID:-//hacksw/handcal//NONSGML v1.0//EN
CALSCALE:GREGORIAN
BEGIN:VEVENT
LOCATION:83420 La Croix-Valmer
DESCRIPTION:https://www.golfe-saint-tropez-information.com/en/animation/sports-and-leisure/la-croix-valmer/paddleboarding-trip-a-getaway-in-the-mediterranean-7799937
DTSTART:20260430T000000Z
DTEND:20260527T000000Z
SUMMARY:Paddleboarding trip: A getaway in the Mediterranean
URL;VALUE=URI:https://www.golfe-saint-tropez-information.com/en/animation/sports-and-leisure/la-croix-valmer/paddleboarding-trip-a-getaway-in-the-mediterranean-7799937
DTSTAMP:20260425T172226Z
UID:69ecf852a2ec2
END:VEVENT
END:VCALENDAR