BEGIN:VCALENDAR
VERSION:2.0
PRODID:-//hacksw/handcal//NONSGML v1.0//EN
CALSCALE:GREGORIAN
BEGIN:VEVENT
LOCATION:Rampe des Sarrazins\, Place de la Mairie\, 83680 La Garde-Freinet
DESCRIPTION:https://www.golfe-saint-tropez-information.com/fr/animation/culture/la-garde-freinet/conference-rencontre-interactive-7798912
DTSTART:20260915T000000Z
DTEND:20260915T000000Z
SUMMARY:Conférence "Rencontre Interactive"
URL;VALUE=URI:https://www.golfe-saint-tropez-information.com/fr/animation/culture/la-garde-freinet/conference-rencontre-interactive-7798912
DTSTAMP:20260425T232638Z
UID:69ed4daec07a3
END:VEVENT
END:VCALENDAR