BEGIN:VCALENDAR
VERSION:2.0
PRODID:-//hacksw/handcal//NONSGML v1.0//EN
CALSCALE:GREGORIAN
BEGIN:VEVENT
LOCATION:Rampe des Sarrazins\, Place de la Mairie\, 83680 La Garde-Freinet
DESCRIPTION:https://www.golfe-saint-tropez-information.com/en/animation/cultural/la-garde-freinet/interactive-meeting-conference-7798912
DTSTART:20260915T000000Z
DTEND:20260915T000000Z
SUMMARY:Interactive Meeting" conference
URL;VALUE=URI:https://www.golfe-saint-tropez-information.com/en/animation/cultural/la-garde-freinet/interactive-meeting-conference-7798912
DTSTAMP:20260426T005837Z
UID:69ed633d38afe
END:VEVENT
END:VCALENDAR