BEGIN:VCALENDAR
VERSION:2.0
PRODID:-//hacksw/handcal//NONSGML v1.0//EN
CALSCALE:GREGORIAN
BEGIN:VEVENT
LOCATION:Plage des Marines de Cogolin\, 83310 Cogolin
DESCRIPTION:https://www.golfe-saint-tropez-information.com/fr/animation/culture/cogolin/festival-caraibes-7798665
DTSTART:20260621T000000Z
DTEND:20260621T000000Z
SUMMARY:Festival caraïbes
URL;VALUE=URI:https://www.golfe-saint-tropez-information.com/fr/animation/culture/cogolin/festival-caraibes-7798665
DTSTAMP:20260425T184947Z
UID:69ed0ccb21a3b
END:VEVENT
END:VCALENDAR