BEGIN:VCALENDAR
VERSION:2.0
PRODID:-//hacksw/handcal//NONSGML v1.0//EN
CALSCALE:GREGORIAN
BEGIN:VEVENT
LOCATION:Plage des Marines de Cogolin\, 83310 Cogolin
DESCRIPTION:https://www.golfe-saint-tropez-information.com/en/animation/cultural/cogolin/caribbean-festival-7798665
DTSTART:20260621T000000Z
DTEND:20260621T000000Z
SUMMARY:Caribbean Festival
URL;VALUE=URI:https://www.golfe-saint-tropez-information.com/en/animation/cultural/cogolin/caribbean-festival-7798665
DTSTAMP:20260425T202442Z
UID:69ed230a43d5e
END:VEVENT
END:VCALENDAR