BEGIN:VCALENDAR
VERSION:2.0
PRODID:-//hacksw/handcal//NONSGML v1.0//EN
CALSCALE:GREGORIAN
BEGIN:VEVENT
LOCATION:35 avenue Georges Pompidou\, 83120 Sainte-Maxime
DESCRIPTION:https://www.golfe-saint-tropez-information.com/fr/animation/distractions-et-loisirs/sainte-maxime/link-humanitaire-journee-du-parrainage-7797829
DTSTART:20260509T000000Z
DTEND:20260509T000000Z
SUMMARY:Link Humanitaire : journée du parrainage
URL;VALUE=URI:https://www.golfe-saint-tropez-information.com/fr/animation/distractions-et-loisirs/sainte-maxime/link-humanitaire-journee-du-parrainage-7797829
DTSTAMP:20260425T155846Z
UID:69ece4b6984e6
END:VEVENT
END:VCALENDAR