BEGIN:VCALENDAR
VERSION:2.0
PRODID:-//hacksw/handcal//NONSGML v1.0//EN
CALSCALE:GREGORIAN
BEGIN:VEVENT
LOCATION:16\, boulevard Vasserot\, 83990 Saint-Tropez
DESCRIPTION:https://www.golfe-saint-tropez-information.com/en/animation/entertainment-recreation/saint-tropez/saint-tropez-fine-art-2026-7796688
DTSTART:20260708T000000Z
DTEND:20260815T000000Z
SUMMARY:Saint Tropez Fine Art 2026
URL;VALUE=URI:https://www.golfe-saint-tropez-information.com/en/animation/entertainment-recreation/saint-tropez/saint-tropez-fine-art-2026-7796688
DTSTAMP:20260425T155838Z
UID:69ece4aeee1dc
END:VEVENT
END:VCALENDAR