BEGIN:VCALENDAR
VERSION:2.0
PRODID:-//hacksw/handcal//NONSGML v1.0//EN
CALSCALE:GREGORIAN
BEGIN:VEVENT
LOCATION:2\, Place Georges Grammont\, 83990 Saint-Tropez
DESCRIPTION:https://www.golfe-saint-tropez-information.com/fr/animation/culture/saint-tropez/nuit-europeenne-des-musees-musee-de-l-annonciade-7796641
DTSTART:20260523T000000Z
DTEND:20260523T000000Z
SUMMARY:Nuit européenne des Musées - Musée de l'Annonciade
URL;VALUE=URI:https://www.golfe-saint-tropez-information.com/fr/animation/culture/saint-tropez/nuit-europeenne-des-musees-musee-de-l-annonciade-7796641
DTSTAMP:20260425T172146Z
UID:69ecf82ad173f
END:VEVENT
END:VCALENDAR