BEGIN:VCALENDAR
VERSION:2.0
PRODID:-//hacksw/handcal//NONSGML v1.0//EN
CALSCALE:GREGORIAN
BEGIN:VEVENT
LOCATION:1-5\, Rue Miséricorde\, 83990 Saint-Tropez
DESCRIPTION:https://www.golfe-saint-tropez-information.com/en/animation/cultural/saint-tropez/concert-pascal-amoyel-piano-7796476
DTSTART:20260611T000000Z
DTEND:20260611T000000Z
SUMMARY:Concert - Pascal AMOYEL (piano)
URL;VALUE=URI:https://www.golfe-saint-tropez-information.com/en/animation/cultural/saint-tropez/concert-pascal-amoyel-piano-7796476
DTSTAMP:20260425T202549Z
UID:69ed234de35ac
END:VEVENT
END:VCALENDAR