BEGIN:VCALENDAR
VERSION:2.0
PRODID:-//hacksw/handcal//NONSGML v1.0//EN
CALSCALE:GREGORIAN
BEGIN:VEVENT
LOCATION:Rampe des Sarrazins\, Place de la Mairie\, 83680 La Garde-Freinet
DESCRIPTION:https://www.golfe-saint-tropez-information.com/en/animation/cultural/la-garde-freinet/poetic-reading-with-music-7792462
DTSTART:20260808T000000Z
DTEND:20260808T000000Z
SUMMARY:Poetic reading with music
URL;VALUE=URI:https://www.golfe-saint-tropez-information.com/en/animation/cultural/la-garde-freinet/poetic-reading-with-music-7792462
DTSTAMP:20260426T005836Z
UID:69ed633c1a4d0
END:VEVENT
END:VCALENDAR