BEGIN:VCALENDAR
VERSION:2.0
PRODID:-//hacksw/handcal//NONSGML v1.0//EN
CALSCALE:GREGORIAN
BEGIN:VEVENT
LOCATION:Rampe des Sarrazins\, Place de la Mairie\, 83680 La Garde-Freinet
DESCRIPTION:https://www.golfe-saint-tropez-information.com/en/animation/cultural/la-garde-freinet/between-heaven-and-earth-exhibition-by-gerard-simonet-de-laborie-7791377
DTSTART:20261002T000000Z
DTEND:20261028T000000Z
SUMMARY:Between heaven and earth" exhibition by Gérard SIMONET DE LABORIE
URL;VALUE=URI:https://www.golfe-saint-tropez-information.com/en/animation/cultural/la-garde-freinet/between-heaven-and-earth-exhibition-by-gerard-simonet-de-laborie-7791377
DTSTAMP:20260425T172207Z
UID:69ecf83f867be
END:VEVENT
END:VCALENDAR