BEGIN:VCALENDAR
VERSION:2.0
PRODID:-//hacksw/handcal//NONSGML v1.0//EN
CALSCALE:GREGORIAN
BEGIN:VEVENT
LOCATION:Aire de Loisirs\, place Léon Martel\, 83580 Gassin
DESCRIPTION:https://www.golfe-saint-tropez-information.com/en/animation/entertainment-recreation/gassin/festival-d-ete-2026-aqua-recre-kid-s-7791246
DTSTART:20260719T000000Z
DTEND:20260719T000000Z
SUMMARY:Festival d'été 2026 - Aqua Récré kid's
URL;VALUE=URI:https://www.golfe-saint-tropez-information.com/en/animation/entertainment-recreation/gassin/festival-d-ete-2026-aqua-recre-kid-s-7791246
DTSTAMP:20260422T230858Z
UID:69e9550a42210
END:VEVENT
END:VCALENDAR