BEGIN:VCALENDAR
VERSION:2.0
PRODID:-//hacksw/handcal//NONSGML v1.0//EN
CALSCALE:GREGORIAN
BEGIN:VEVENT
LOCATION:Rampe des Sarrazins\, Place de la Mairie\, 83680 La Garde-Freinet
DESCRIPTION:https://www.golfe-saint-tropez-information.com/en/animation/cultural/la-garde-freinet/finesses-of-raw-material-exhibition-7791224
DTSTART:20260814T000000Z
DTEND:20260831T000000Z
SUMMARY:Finesses of raw material" exhibition
URL;VALUE=URI:https://www.golfe-saint-tropez-information.com/en/animation/cultural/la-garde-freinet/finesses-of-raw-material-exhibition-7791224
DTSTAMP:20260425T172205Z
UID:69ecf83dba545
END:VEVENT
END:VCALENDAR