BEGIN:VCALENDAR
VERSION:2.0
PRODID:-//hacksw/handcal//NONSGML v1.0//EN
CALSCALE:GREGORIAN
BEGIN:VEVENT
LOCATION:83310 Grimaud
DESCRIPTION:https://www.golfe-saint-tropez-information.com/fr/animation/distractions-et-loisirs/grimaud/les-medievales-de-la-saint-michel-7791220
DTSTART:20260926T000000Z
DTEND:20260927T000000Z
SUMMARY:Les Médiévales de la Saint-Michel
URL;VALUE=URI:https://www.golfe-saint-tropez-information.com/fr/animation/distractions-et-loisirs/grimaud/les-medievales-de-la-saint-michel-7791220
DTSTAMP:20260423T014318Z
UID:69e97936d9ddf
END:VEVENT
END:VCALENDAR