BEGIN:VCALENDAR
VERSION:2.0
PRODID:-//hacksw/handcal//NONSGML v1.0//EN
CALSCALE:GREGORIAN
BEGIN:VEVENT
LOCATION:83310 Grimaud
DESCRIPTION:https://www.golfe-saint-tropez-information.com/en/animation/entertainment-recreation/grimaud/the-saint-michel-medieval-festival-7791220
DTSTART:20260926T000000Z
DTEND:20260927T000000Z
SUMMARY:The Saint-Michel Medieval Festival
URL;VALUE=URI:https://www.golfe-saint-tropez-information.com/en/animation/entertainment-recreation/grimaud/the-saint-michel-medieval-festival-7791220
DTSTAMP:20260423T025754Z
UID:69e98ab242f89
END:VEVENT
END:VCALENDAR