BEGIN:VCALENDAR
VERSION:2.0
PRODID:-//hacksw/handcal//NONSGML v1.0//EN
CALSCALE:GREGORIAN
BEGIN:VEVENT
LOCATION:Place deï Barri\, Gassin village\, 83580 Gassin
DESCRIPTION:https://www.golfe-saint-tropez-information.com/fr/animation/manifestations-commerciales/gassin/festival-d-ete-2026-les-marches-de-zabou-7791149
DTSTART:20260717T000000Z
DTEND:20260814T000000Z
SUMMARY:Festival d'été 2026 - les marchés de Zabou
URL;VALUE=URI:https://www.golfe-saint-tropez-information.com/fr/animation/manifestations-commerciales/gassin/festival-d-ete-2026-les-marches-de-zabou-7791149
DTSTAMP:20260422T215009Z
UID:69e942918e40b
END:VEVENT
END:VCALENDAR