BEGIN:VCALENDAR
VERSION:2.0
PRODID:-//hacksw/handcal//NONSGML v1.0//EN
CALSCALE:GREGORIAN
BEGIN:VEVENT
LOCATION:Rampe des Sarrazins\, Place de la Mairie\, 83680 La Garde-Freinet
DESCRIPTION:https://www.golfe-saint-tropez-information.com/fr/animation/culture/la-garde-freinet/exposition-3-pinceaux-pour-la-chapelle-7791135
DTSTART:20260730T000000Z
DTEND:20260810T000000Z
SUMMARY:Exposition "3 pinceaux pour la chapelle"
URL;VALUE=URI:https://www.golfe-saint-tropez-information.com/fr/animation/culture/la-garde-freinet/exposition-3-pinceaux-pour-la-chapelle-7791135
DTSTAMP:20260425T143147Z
UID:69ecd053d0c1a
END:VEVENT
END:VCALENDAR