BEGIN:VCALENDAR
VERSION:2.0
PRODID:-//hacksw/handcal//NONSGML v1.0//EN
CALSCALE:GREGORIAN
BEGIN:VEVENT
LOCATION:Rampe des Sarrazins\, Place de la Mairie\, 83680 La Garde-Freinet
DESCRIPTION:https://www.golfe-saint-tropez-information.com/en/animation/cultural/la-garde-freinet/3-brushes-for-the-chapel-exhibition-7791135
DTSTART:20260730T000000Z
DTEND:20260810T000000Z
SUMMARY:3 brushes for the chapel" exhibition
URL;VALUE=URI:https://www.golfe-saint-tropez-information.com/en/animation/cultural/la-garde-freinet/3-brushes-for-the-chapel-exhibition-7791135
DTSTAMP:20260425T155846Z
UID:69ece4b61da25
END:VEVENT
END:VCALENDAR