BEGIN:VCALENDAR
VERSION:2.0
PRODID:-//hacksw/handcal//NONSGML v1.0//EN
CALSCALE:GREGORIAN
BEGIN:VEVENT
LOCATION:83420 La Croix-Valmer
DESCRIPTION:https://www.golfe-saint-tropez-information.com/fr/animation/nature-et-detente/la-croix-valmer/sortie-nature-hibou-petit-duc-7791096
DTSTART:20260612T000000Z
DTEND:20260612T000000Z
SUMMARY:Sortie nature : Hibou petit-Duc
URL;VALUE=URI:https://www.golfe-saint-tropez-information.com/fr/animation/nature-et-detente/la-croix-valmer/sortie-nature-hibou-petit-duc-7791096
DTSTAMP:20260422T190040Z
UID:69e91ad8ba61b
END:VEVENT
END:VCALENDAR