BEGIN:VCALENDAR
VERSION:2.0
PRODID:-//hacksw/handcal//NONSGML v1.0//EN
CALSCALE:GREGORIAN
BEGIN:VEVENT
LOCATION:83420 La Croix-Valmer
DESCRIPTION:https://www.golfe-saint-tropez-information.com/en/animation/nature-and-relaxation/la-croix-valmer/nature-walk-owl-petit-duc-7791096
DTSTART:20260612T000000Z
DTEND:20260612T000000Z
SUMMARY:Nature walk : Owl "Petit-Duc"
URL;VALUE=URI:https://www.golfe-saint-tropez-information.com/en/animation/nature-and-relaxation/la-croix-valmer/nature-walk-owl-petit-duc-7791096
DTSTAMP:20260422T202242Z
UID:69e92e128f044
END:VEVENT
END:VCALENDAR