BEGIN:VCALENDAR
VERSION:2.0
PRODID:-//hacksw/handcal//NONSGML v1.0//EN
CALSCALE:GREGORIAN
BEGIN:VEVENT
LOCATION:Rampe des Sarrazins\, Place de la Mairie\, 83680 La Garde-Freinet
DESCRIPTION:https://www.golfe-saint-tropez-information.com/fr/animation/culture/la-garde-freinet/concert-de-finissage-7791077
DTSTART:20260726T000000Z
DTEND:20260726T000000Z
SUMMARY:Concert de finissage
URL;VALUE=URI:https://www.golfe-saint-tropez-information.com/fr/animation/culture/la-garde-freinet/concert-de-finissage-7791077
DTSTAMP:20260422T230850Z
UID:69e95502d1ac8
END:VEVENT
END:VCALENDAR