BEGIN:VCALENDAR
VERSION:2.0
PRODID:-//hacksw/handcal//NONSGML v1.0//EN
CALSCALE:GREGORIAN
BEGIN:VEVENT
LOCATION:Rampe des Sarrazins\, Place de la Mairie\, 83680 La Garde-Freinet
DESCRIPTION:https://www.golfe-saint-tropez-information.com/en/animation/cultural/la-garde-freinet/final-concert-7791077
DTSTART:20260726T000000Z
DTEND:20260726T000000Z
SUMMARY:Final concert
URL;VALUE=URI:https://www.golfe-saint-tropez-information.com/en/animation/cultural/la-garde-freinet/final-concert-7791077
DTSTAMP:20260423T002019Z
UID:69e965c36adff
END:VEVENT
END:VCALENDAR