BEGIN:VCALENDAR
VERSION:2.0
PRODID:-//hacksw/handcal//NONSGML v1.0//EN
CALSCALE:GREGORIAN
BEGIN:VEVENT
LOCATION:21 place Clémenceau\, 83120 Plan-de-la-Tour
DESCRIPTION:https://www.golfe-saint-tropez-information.com/fr/animation/culture/plan-de-la-tour/seance-de-dedicace-fabien-salducci-7790855
DTSTART:20260502T000000Z
DTEND:20260502T000000Z
SUMMARY:Séance de Dédicace - Fabien Salducci
URL;VALUE=URI:https://www.golfe-saint-tropez-information.com/fr/animation/culture/plan-de-la-tour/seance-de-dedicace-fabien-salducci-7790855
DTSTAMP:20260422T144403Z
UID:69e8deb309879
END:VEVENT
END:VCALENDAR