BEGIN:VCALENDAR
VERSION:2.0
PRODID:-//hacksw/handcal//NONSGML v1.0//EN
CALSCALE:GREGORIAN
BEGIN:VEVENT
LOCATION:83350 Ramatuelle
DESCRIPTION:https://www.golfe-saint-tropez-information.com/fr/animation/nature-et-detente/ramatuelle/a-l-ecoute-du-petit-duc-a-ramatuelle-7790805
DTSTART:20260605T000000Z
DTEND:20260605T000000Z
SUMMARY:A l'écoute du Petit-duc à Ramatuelle
URL;VALUE=URI:https://www.golfe-saint-tropez-information.com/fr/animation/nature-et-detente/ramatuelle/a-l-ecoute-du-petit-duc-a-ramatuelle-7790805
DTSTAMP:20260422T173852Z
UID:69e907ac5789f
END:VEVENT
END:VCALENDAR