BEGIN:VCALENDAR
VERSION:2.0
PRODID:-//hacksw/handcal//NONSGML v1.0//EN
CALSCALE:GREGORIAN
BEGIN:VEVENT
LOCATION:83350 Ramatuelle
DESCRIPTION:https://www.golfe-saint-tropez-information.com/en/animation/nature-and-relaxation/ramatuelle/listening-to-the-petit-duc-in-ramatuelle-7790805
DTSTART:20260605T000000Z
DTEND:20260605T000000Z
SUMMARY:Listening to the Petit-duc in Ramatuelle
URL;VALUE=URI:https://www.golfe-saint-tropez-information.com/en/animation/nature-and-relaxation/ramatuelle/listening-to-the-petit-duc-in-ramatuelle-7790805
DTSTAMP:20260422T190038Z
UID:69e91ad6b5b73
END:VEVENT
END:VCALENDAR