BEGIN:VCALENDAR
VERSION:2.0
PRODID:-//hacksw/handcal//NONSGML v1.0//EN
CALSCALE:GREGORIAN
BEGIN:VEVENT
LOCATION:83350 Ramatuelle
DESCRIPTION:https://www.golfe-saint-tropez-information.com/fr/animation/distractions-et-loisirs/ramatuelle/les-mercredis-des-enfants-sculpture-de-galets-et-et-si-copier-c-etait-creer-7790037
DTSTART:20260826T000000Z
DTEND:20260826T000000Z
SUMMARY:Les mercredis des enfants - sculpture de galets et Et si copier\, c’était créer !
URL;VALUE=URI:https://www.golfe-saint-tropez-information.com/fr/animation/distractions-et-loisirs/ramatuelle/les-mercredis-des-enfants-sculpture-de-galets-et-et-si-copier-c-etait-creer-7790037
DTSTAMP:20260423T001952Z
UID:69e965a8a7a90
END:VEVENT
END:VCALENDAR