BEGIN:VCALENDAR
VERSION:2.0
PRODID:-//hacksw/handcal//NONSGML v1.0//EN
CALSCALE:GREGORIAN
BEGIN:VEVENT
LOCATION:83350 Ramatuelle
DESCRIPTION:https://www.golfe-saint-tropez-information.com/en/animation/entertainment-recreation/ramatuelle/children-s-wednesdays-pebble-sculpture-and-and-if-copying-meant-creating-7790037
DTSTART:20260826T000000Z
DTEND:20260826T000000Z
SUMMARY:Children's Wednesdays - pebble sculpture and And if copying meant creating!
URL;VALUE=URI:https://www.golfe-saint-tropez-information.com/en/animation/entertainment-recreation/ramatuelle/children-s-wednesdays-pebble-sculpture-and-and-if-copying-meant-creating-7790037
DTSTAMP:20260423T024610Z
UID:69e987f29b3cd
END:VEVENT
END:VCALENDAR