BEGIN:VCALENDAR
VERSION:2.0
PRODID:-//hacksw/handcal//NONSGML v1.0//EN
CALSCALE:GREGORIAN
BEGIN:VEVENT
LOCATION:83350 Ramatuelle
DESCRIPTION:https://www.golfe-saint-tropez-information.com/fr/animation/distractions-et-loisirs/ramatuelle/les-mercredis-des-enfants-jeux-et-jouets-en-bois-et-carnet-de-vacances-les-5-sens-7790027
DTSTART:20260819T000000Z
DTEND:20260819T000000Z
SUMMARY:Les mercredis des enfants - jeux et jouets en bois et carnet de vacances\, les 5 sens
URL;VALUE=URI:https://www.golfe-saint-tropez-information.com/fr/animation/distractions-et-loisirs/ramatuelle/les-mercredis-des-enfants-jeux-et-jouets-en-bois-et-carnet-de-vacances-les-5-sens-7790027
DTSTAMP:20260423T002017Z
UID:69e965c12d090
END:VEVENT
END:VCALENDAR