BEGIN:VCALENDAR
VERSION:2.0
PRODID:-//hacksw/handcal//NONSGML v1.0//EN
CALSCALE:GREGORIAN
BEGIN:VEVENT
LOCATION:83350 Ramatuelle
DESCRIPTION:https://www.golfe-saint-tropez-information.com/en/animation/entertainment-recreation/ramatuelle/children-s-wednesdays-wooden-games-and-toys-and-vacation-notebook-the-5-senses-7790027
DTSTART:20260819T000000Z
DTEND:20260819T000000Z
SUMMARY:Children's Wednesdays - wooden games and toys and vacation notebook\, the 5 senses
URL;VALUE=URI:https://www.golfe-saint-tropez-information.com/en/animation/entertainment-recreation/ramatuelle/children-s-wednesdays-wooden-games-and-toys-and-vacation-notebook-the-5-senses-7790027
DTSTAMP:20260423T013545Z
UID:69e97771919d9
END:VEVENT
END:VCALENDAR