BEGIN:VCALENDAR
VERSION:2.0
PRODID:-//hacksw/handcal//NONSGML v1.0//EN
CALSCALE:GREGORIAN
BEGIN:VEVENT
LOCATION:83350 Ramatuelle
DESCRIPTION:https://www.golfe-saint-tropez-information.com/fr/animation/distractions-et-loisirs/ramatuelle/les-mercredis-des-enfants-suspension-naturelle-et-decoration-de-son-eventail-7789843
DTSTART:20260805T000000Z
DTEND:20260805T000000Z
SUMMARY:Les mercredis des enfants -  suspension naturelle et décoration de son éventail
URL;VALUE=URI:https://www.golfe-saint-tropez-information.com/fr/animation/distractions-et-loisirs/ramatuelle/les-mercredis-des-enfants-suspension-naturelle-et-decoration-de-son-eventail-7789843
DTSTAMP:20260422T230859Z
UID:69e9550b521b4
END:VEVENT
END:VCALENDAR