BEGIN:VCALENDAR
VERSION:2.0
PRODID:-//hacksw/handcal//NONSGML v1.0//EN
CALSCALE:GREGORIAN
BEGIN:VEVENT
LOCATION:83350 Ramatuelle
DESCRIPTION:https://www.golfe-saint-tropez-information.com/en/animation/entertainment-recreation/ramatuelle/children-s-wednesdays-natural-suspension-and-fan-decoration-7789843
DTSTART:20260805T000000Z
DTEND:20260805T000000Z
SUMMARY:Children's Wednesdays - Natural suspension and fan decoration
URL;VALUE=URI:https://www.golfe-saint-tropez-information.com/en/animation/entertainment-recreation/ramatuelle/children-s-wednesdays-natural-suspension-and-fan-decoration-7789843
DTSTAMP:20260423T002052Z
UID:69e965e44e36d
END:VEVENT
END:VCALENDAR