BEGIN:VCALENDAR
VERSION:2.0
PRODID:-//hacksw/handcal//NONSGML v1.0//EN
CALSCALE:GREGORIAN
BEGIN:VEVENT
LOCATION:46 rue Nationale\, 83310 Cogolin
DESCRIPTION:https://www.golfe-saint-tropez-information.com/en/animation/cultural/cogolin/provencal-lessons-7789745
DTSTART:20260516T000000Z
DTEND:20260620T000000Z
SUMMARY:Provençal lessons
URL;VALUE=URI:https://www.golfe-saint-tropez-information.com/en/animation/cultural/cogolin/provencal-lessons-7789745
DTSTAMP:20260422T185552Z
UID:69e919b852ecf
END:VEVENT
END:VCALENDAR