BEGIN:VCALENDAR
VERSION:2.0
PRODID:-//hacksw/handcal//NONSGML v1.0//EN
CALSCALE:GREGORIAN
BEGIN:VEVENT
LOCATION:83350 Ramatuelle
DESCRIPTION:https://www.golfe-saint-tropez-information.com/fr/animation/distractions-et-loisirs/ramatuelle/les-mercredis-des-enfants-atelier-marionnette-et-voyage-en-couleurs-7789725
DTSTART:20260715T000000Z
DTEND:20260715T000000Z
SUMMARY:Les mercredis des enfants - Atelier marionnette et Voyage en Couleurs
URL;VALUE=URI:https://www.golfe-saint-tropez-information.com/fr/animation/distractions-et-loisirs/ramatuelle/les-mercredis-des-enfants-atelier-marionnette-et-voyage-en-couleurs-7789725
DTSTAMP:20260422T215040Z
UID:69e942b0cfaff
END:VEVENT
END:VCALENDAR