BEGIN:VCALENDAR
VERSION:2.0
PRODID:-//hacksw/handcal//NONSGML v1.0//EN
CALSCALE:GREGORIAN
BEGIN:VEVENT
LOCATION:83350 Ramatuelle
DESCRIPTION:https://www.golfe-saint-tropez-information.com/en/animation/entertainment-recreation/ramatuelle/children-s-wednesdays-puppet-workshop-and-voyage-en-couleurs-7789725
DTSTART:20260715T000000Z
DTEND:20260715T000000Z
SUMMARY:Children's Wednesdays - Puppet workshop and Voyage en Couleurs
URL;VALUE=URI:https://www.golfe-saint-tropez-information.com/en/animation/entertainment-recreation/ramatuelle/children-s-wednesdays-puppet-workshop-and-voyage-en-couleurs-7789725
DTSTAMP:20260422T230856Z
UID:69e95508126a0
END:VEVENT
END:VCALENDAR