BEGIN:VCALENDAR
VERSION:2.0
PRODID:-//hacksw/handcal//NONSGML v1.0//EN
CALSCALE:GREGORIAN
BEGIN:VEVENT
LOCATION:83350 Ramatuelle
DESCRIPTION:https://www.golfe-saint-tropez-information.com/fr/animation/distractions-et-loisirs/ramatuelle/les-mercredis-des-enfants-marionnettes-articulees-et-bijoux-du-monde-7789703
DTSTART:20260708T000000Z
DTEND:20260708T000000Z
SUMMARY:Les mercredis des enfants - marionnettes articulées et bijoux du monde    &
URL;VALUE=URI:https://www.golfe-saint-tropez-information.com/fr/animation/distractions-et-loisirs/ramatuelle/les-mercredis-des-enfants-marionnettes-articulees-et-bijoux-du-monde-7789703
DTSTAMP:20260422T202245Z
UID:69e92e1558a96
END:VEVENT
END:VCALENDAR