BEGIN:VCALENDAR
VERSION:2.0
PRODID:-//hacksw/handcal//NONSGML v1.0//EN
CALSCALE:GREGORIAN
BEGIN:VEVENT
LOCATION:83350 Ramatuelle
DESCRIPTION:https://www.golfe-saint-tropez-information.com/en/animation/entertainment-recreation/ramatuelle/children-s-wednesdays-articulated-puppets-and-jewelry-from-around-the-world-7789703
DTSTART:20260708T000000Z
DTEND:20260708T000000Z
SUMMARY:children's Wednesdays - articulated puppets and jewelry from around the world &.
URL;VALUE=URI:https://www.golfe-saint-tropez-information.com/en/animation/entertainment-recreation/ramatuelle/children-s-wednesdays-articulated-puppets-and-jewelry-from-around-the-world-7789703
DTSTAMP:20260422T215008Z
UID:69e942905fa64
END:VEVENT
END:VCALENDAR