BEGIN:VCALENDAR
VERSION:2.0
PRODID:-//hacksw/handcal//NONSGML v1.0//EN
CALSCALE:GREGORIAN
BEGIN:VEVENT
LOCATION:46 rue Nationale\, 83310 Cogolin
DESCRIPTION:https://www.golfe-saint-tropez-information.com/fr/animation/distractions-et-loisirs/cogolin/atelier-tableau-floral-grand-format-7789700
DTSTART:20260619T000000Z
DTEND:20260619T000000Z
SUMMARY:Atelier tableau floral grand format
URL;VALUE=URI:https://www.golfe-saint-tropez-information.com/fr/animation/distractions-et-loisirs/cogolin/atelier-tableau-floral-grand-format-7789700
DTSTAMP:20260422T190041Z
UID:69e91ad999291
END:VEVENT
END:VCALENDAR